BEGIN:VCALENDAR
VERSION:2.0
METHOD:PUBLISH
BEGIN:VEVENT
DTSTAMP:20260421T192256Z
DTSTART:20260417T230000Z
DTEND:20260418T020000Z
SUMMARY:Belleville Senators vs Syracuse Crunch
LOCATION:265 Cannifton Road, Belleville, ON,  K8N 0A2
END:VEVENT
END:VCALENDAR
