BEGIN:VCALENDAR
VERSION:2.0
METHOD:PUBLISH
BEGIN:VEVENT
DTSTAMP:20260421T191649Z
DTSTART:20260415T230000Z
DTEND:20260416T020000Z
SUMMARY:Belleville Senators vs Utica Comets
LOCATION:265 Cannifton Road, Belleville, ON,  K8N 0A2
END:VEVENT
END:VCALENDAR
