BEGIN:VCALENDAR
VERSION:2.0
METHOD:PUBLISH
BEGIN:VEVENT
DTSTAMP:20260421T125323Z
DTSTART:20241216T150000Z
DTEND:20241216T154500Z
SUMMARY:Mini Scientists (18 months to 3 Years)
LOCATION:265 Cannifton Road, Belleville, ON K8N 4V8
END:VEVENT
END:VCALENDAR
