BEGIN:VCALENDAR
VERSION:2.0
METHOD:PUBLISH
BEGIN:VEVENT
DTSTAMP:20260423T142111Z
DTSTART:20241213T003000Z
DTEND:20241213T021500Z
SUMMARY:Volleyball Recreational/Beginner
LOCATION:265 Cannifton Road, Belleville ON K8N 4V8
END:VEVENT
END:VCALENDAR
