BEGIN:VCALENDAR
VERSION:2.0
METHOD:PUBLISH
BEGIN:VEVENT
DTSTAMP:20260420T223343Z
DTSTART:20241209T171500Z
DTEND:20241209T174500Z
SUMMARY:Cardio Core
LOCATION:265 Cannifton Road, Belleville, ON
END:VEVENT
END:VCALENDAR
