BEGIN:VCALENDAR
VERSION:2.0
METHOD:PUBLISH
BEGIN:VEVENT
DTSTAMP:20260426T011947Z
DTSTART:20241209T134500Z
DTEND:20241209T144500Z
SUMMARY:Learn to Speak French - Communicate in a French Restaurant
LOCATION:265 Cannifton Road, Belleville, ON K8N 4V8
END:VEVENT
END:VCALENDAR
