BEGIN:VCALENDAR
VERSION:2.0
METHOD:PUBLISH
BEGIN:VEVENT
DTSTAMP:20260420T083847Z
DTSTART:20241206T170000Z
DTEND:20241206T180000Z
SUMMARY:Line Dancing - Beginner
LOCATION:265 Cannifton Road, Belleville, ON
END:VEVENT
END:VCALENDAR
