BEGIN:VCALENDAR
VERSION:2.0
METHOD:PUBLISH
BEGIN:VEVENT
DTSTAMP:20260423T235931Z
DTSTART:20241203T164500Z
DTEND:20241203T180000Z
SUMMARY:Parkinson's Social Hour
LOCATION:265 Cannifton Road, Belleville, ON K8N 4V8
END:VEVENT
END:VCALENDAR
