BEGIN:VCALENDAR
VERSION:2.0
METHOD:PUBLISH
BEGIN:VEVENT
DTSTAMP:20260420T045514Z
DTSTART:20241201T171000Z
DTEND:20241201T175500Z
SUMMARY:Aqua Mind and Body
LOCATION:265 Cannifton Road, Belleville ON K8N 4V8
END:VEVENT
END:VCALENDAR
