BEGIN:VCALENDAR
VERSION:2.0
METHOD:PUBLISH
BEGIN:VEVENT
DTSTAMP:20260419T124542Z
DTSTART:20241130T210000Z
DTEND:20241130T230000Z
SUMMARY:Futsal
LOCATION:265 Cannifton Road, Belleville, ON K8N 4V8
END:VEVENT
END:VCALENDAR
