BEGIN:VCALENDAR
VERSION:2.0
METHOD:PUBLISH
BEGIN:VEVENT
DTSTAMP:20260419T213544Z
DTSTART:20241128T140000Z
DTEND:20241128T144500Z
SUMMARY:Women's Weight Training
LOCATION:265 Cannifton Road, Belleville, ON
END:VEVENT
END:VCALENDAR
