BEGIN:VCALENDAR
VERSION:2.0
METHOD:PUBLISH
BEGIN:VEVENT
DTSTAMP:20260422T143259Z
DTSTART:20241127T183000Z
DTEND:20241127T193000Z
SUMMARY:Zumba Gold
LOCATION:265 Cannifton Road, Belleville, ON K8N 4V8
END:VEVENT
END:VCALENDAR
