BEGIN:VCALENDAR
VERSION:2.0
METHOD:PUBLISH
BEGIN:VEVENT
DTSTAMP:20260419T173825Z
DTSTART:20241125T181500Z
DTEND:20241125T200000Z
SUMMARY:Pickleball (Intermediate)
LOCATION:265 Cannifton Road, Belleville, ON K8N 4V8
END:VEVENT
END:VCALENDAR
