BEGIN:VCALENDAR
VERSION:2.0
METHOD:PUBLISH
BEGIN:VEVENT
DTSTAMP:20260422T142344Z
DTSTART:20241113T003000Z
DTEND:20241113T014500Z
SUMMARY:Public Swim (All Pools)
LOCATION:265 Cannifton Road, Belleville ON K8N 4V8
END:VEVENT
END:VCALENDAR
