BEGIN:VCALENDAR
VERSION:2.0
METHOD:PUBLISH
BEGIN:VEVENT
DTSTAMP:20260420T045615Z
DTSTART:20241110T171000Z
DTEND:20241110T175500Z
SUMMARY:Aqua Mind and Body
LOCATION:265 Cannifton Road, Belleville ON K8N 4V8
END:VEVENT
END:VCALENDAR
