BEGIN:VCALENDAR
VERSION:2.0
METHOD:PUBLISH
BEGIN:VEVENT
DTSTAMP:20260423T122415Z
DTSTART:20241108T003000Z
DTEND:20241108T021500Z
SUMMARY:Volleyball Recreational/Beginner
LOCATION:265 Cannifton Road, Belleville ON K8N 4V8
END:VEVENT
END:VCALENDAR
