BEGIN:VCALENDAR
VERSION:2.0
METHOD:PUBLISH
BEGIN:VEVENT
DTSTAMP:20260426T001117Z
DTSTART:20241107T181500Z
DTEND:20241107T200000Z
SUMMARY:Pickleball (Intermediate)
LOCATION:265 Cannifton Road, Belleville, ON K8N 4V8
END:VEVENT
END:VCALENDAR
