BEGIN:VCALENDAR
VERSION:2.0
METHOD:PUBLISH
BEGIN:VEVENT
DTSTAMP:20260424T210100Z
DTSTART:20241104T161500Z
DTEND:20241104T171500Z
SUMMARY:Lane Swim (1/2 pool)
LOCATION:265 Cannifton Rd., Belleville, ON K8N 4V8
END:VEVENT
END:VCALENDAR
