BEGIN:VCALENDAR
VERSION:2.0
METHOD:PUBLISH
BEGIN:VEVENT
DTSTAMP:20260426T003211Z
DTSTART:20241031T171500Z
DTEND:20241031T190000Z
SUMMARY:Pickleball (Intermediate)
LOCATION:265 Cannifton Road, Belleville, ON K8N 4V8
END:VEVENT
END:VCALENDAR
