BEGIN:VCALENDAR
VERSION:2.0
METHOD:PUBLISH
BEGIN:VEVENT
DTSTAMP:20260419T135600Z
DTSTART:20241031T151500Z
DTEND:20241031T160500Z
SUMMARY:Senior Shinny (50+)
LOCATION:265 Cannifton Road, Belleville, ON
END:VEVENT
END:VCALENDAR
