BEGIN:VCALENDAR
VERSION:2.0
METHOD:PUBLISH
BEGIN:VEVENT
DTSTAMP:20260422T124607Z
DTSTART:20241030T173000Z
DTEND:20241030T183000Z
SUMMARY:Zumba Gold
LOCATION:265 Cannifton Road, Belleville, ON K8N 4V8
END:VEVENT
END:VCALENDAR
