BEGIN:VCALENDAR
VERSION:2.0
METHOD:PUBLISH
BEGIN:VEVENT
DTSTAMP:20260424T181800Z
DTSTART:20241028T173000Z
DTEND:20241028T183000Z
SUMMARY:OA Gentle Exercise &amp; Fitness
LOCATION:265 Cannifton Road, Belleville, ON K8N 4V8
END:VEVENT
END:VCALENDAR
