BEGIN:VCALENDAR
VERSION:2.0
METHOD:PUBLISH
BEGIN:VEVENT
DTSTAMP:20260420T175142Z
DTSTART:20241028T161500Z
DTEND:20241028T164500Z
SUMMARY:Cardio Core
LOCATION:265 Cannifton Road, Belleville, ON
END:VEVENT
END:VCALENDAR
