BEGIN:VCALENDAR
VERSION:2.0
METHOD:PUBLISH
BEGIN:VEVENT
DTSTAMP:20260421T192032Z
DTSTART:20241025T210000Z
DTEND:20241025T220000Z
SUMMARY:Kids Pop up Event - Pumpkin Carving (4-9 years)
LOCATION:265 Cannifton Road, Belleville, ON K8N 4V8
END:VEVENT
END:VCALENDAR
