BEGIN:VCALENDAR
VERSION:2.0
METHOD:PUBLISH
BEGIN:VEVENT
DTSTAMP:20260421T045230Z
DTSTART:20241024T144500Z
DTEND:20241024T163000Z
SUMMARY:Pickleball (Advanced)
LOCATION:265 Cannifton Road, Belleville, ON K8N 4V8
END:VEVENT
END:VCALENDAR
