BEGIN:VCALENDAR
VERSION:2.0
METHOD:PUBLISH
BEGIN:VEVENT
DTSTAMP:20260425T190055Z
DTSTART:20241023T173000Z
DTEND:20241023T183000Z
SUMMARY:Zumba Gold
LOCATION:265 Cannifton Road, Belleville, ON K8N 4V8
END:VEVENT
END:VCALENDAR
