BEGIN:VCALENDAR
VERSION:2.0
METHOD:PUBLISH
BEGIN:VEVENT
DTSTAMP:20260425T155537Z
DTSTART:20241022T220000Z
DTEND:20241022T225000Z
SUMMARY:Aqua Fitness
LOCATION:265 Cannifton Road, Belleville ON K8N 4V8
END:VEVENT
END:VCALENDAR
