BEGIN:VCALENDAR
VERSION:2.0
METHOD:PUBLISH
BEGIN:VEVENT
DTSTAMP:20260424T144554Z
DTSTART:20241021T173000Z
DTEND:20241021T183000Z
SUMMARY:OA Gentle Exercise &amp; Fitness
LOCATION:265 Cannifton Road, Belleville, ON K8N 4V8
END:VEVENT
END:VCALENDAR
