BEGIN:VCALENDAR
VERSION:2.0
METHOD:PUBLISH
BEGIN:VEVENT
DTSTAMP:20260419T155630Z
DTSTART:20241021T171500Z
DTEND:20241021T190000Z
SUMMARY:Pickleball (Intermediate)
LOCATION:265 Cannifton Road, Belleville, ON K8N 4V8
END:VEVENT
END:VCALENDAR
