BEGIN:VCALENDAR
VERSION:2.0
METHOD:PUBLISH
BEGIN:VEVENT
DTSTAMP:20260424T210347Z
DTSTART:20241021T151500Z
DTEND:20241021T161500Z
SUMMARY:Lane Swim (1/2 pool)
LOCATION:265 Cannifton Rd., Belleville, ON K8N 4V8
END:VEVENT
END:VCALENDAR
