BEGIN:VCALENDAR
VERSION:2.0
METHOD:PUBLISH
BEGIN:VEVENT
DTSTAMP:20260423T185902Z
DTSTART:20241018T160000Z
DTEND:20241018T170000Z
SUMMARY:Line Dancing - Beginner
LOCATION:265 Cannifton Road, Belleville, ON
END:VEVENT
END:VCALENDAR
