BEGIN:VCALENDAR
VERSION:2.0
METHOD:PUBLISH
BEGIN:VEVENT
DTSTAMP:20260426T040310Z
DTSTART:20241018T140000Z
DTEND:20241018T144500Z
SUMMARY:Movers &amp; Shakers (18 months to 3 Years)
LOCATION:265 Cannifton Road, Belleville, ON K8N 4V8
END:VEVENT
END:VCALENDAR
