BEGIN:VCALENDAR
VERSION:2.0
METHOD:PUBLISH
BEGIN:VEVENT
DTSTAMP:20260423T122543Z
DTSTART:20241017T233000Z
DTEND:20241018T011500Z
SUMMARY:Volleyball Recreational/Beginner
LOCATION:265 Cannifton Road, Belleville ON K8N 4V8
END:VEVENT
END:VCALENDAR
