BEGIN:VCALENDAR
VERSION:2.0
METHOD:PUBLISH
BEGIN:VEVENT
DTSTAMP:20260425T111206Z
DTSTART:20241017T210000Z
DTEND:20241017T230000Z
SUMMARY:Youth Room Drop-in (Grade 6-12)
LOCATION:265 Cannifton Road
END:VEVENT
END:VCALENDAR
