BEGIN:VCALENDAR
VERSION:2.0
METHOD:PUBLISH
BEGIN:VEVENT
DTSTAMP:20260425T223805Z
DTSTART:20241017T171500Z
DTEND:20241017T190000Z
SUMMARY:Pickleball (Intermediate)
LOCATION:265 Cannifton Road, Belleville, ON K8N 4V8
END:VEVENT
END:VCALENDAR
