BEGIN:VCALENDAR
VERSION:2.0
METHOD:PUBLISH
BEGIN:VEVENT
DTSTAMP:20260422T190533Z
DTSTART:20241017T151500Z
DTEND:20241017T161500Z
SUMMARY:Lane Swim (1/2 pool)
LOCATION:265 Cannifton Rd., Belleville, ON K8N 4V8
END:VEVENT
END:VCALENDAR
