BEGIN:VCALENDAR
VERSION:2.0
METHOD:PUBLISH
BEGIN:VEVENT
DTSTAMP:20260421T044929Z
DTSTART:20241010T144500Z
DTEND:20241010T163000Z
SUMMARY:Pickleball (Advanced)
LOCATION:265 Cannifton Road, Belleville, ON K8N 4V8
END:VEVENT
END:VCALENDAR
