BEGIN:VCALENDAR
VERSION:2.0
METHOD:PUBLISH
BEGIN:VEVENT
DTSTAMP:20260419T164839Z
DTSTART:20241010T130000Z
DTEND:20241010T134500Z
SUMMARY:Women's Weight Training
LOCATION:265 Cannifton Road, Belleville, ON
END:VEVENT
END:VCALENDAR
