BEGIN:VCALENDAR
VERSION:2.0
METHOD:PUBLISH
BEGIN:VEVENT
DTSTAMP:20260420T210123Z
DTSTART:20241005T141500Z
DTEND:20241005T160000Z
SUMMARY:Family/Open Gym
LOCATION:265 Cannifton Road, Belleville, ON K8N 4V8
END:VEVENT
END:VCALENDAR
