BEGIN:VCALENDAR
VERSION:2.0
METHOD:PUBLISH
BEGIN:VEVENT
DTSTAMP:20260421T121934Z
DTSTART:20240830T144500Z
DTEND:20240830T154500Z
SUMMARY:Line Dancing - Beginner
LOCATION:265 Cannifton Road, Belleville, ON
END:VEVENT
END:VCALENDAR
