BEGIN:VCALENDAR
VERSION:2.0
METHOD:PUBLISH
BEGIN:VEVENT
DTSTAMP:20260421T185411Z
DTSTART:20240823T130000Z
DTEND:20240823T140000Z
SUMMARY:Family Swim (Therapy/Preschool Pool Only)
LOCATION:265 Cannifton Road, Belleville, ON
END:VEVENT
END:VCALENDAR
