BEGIN:VCALENDAR
VERSION:2.0
METHOD:PUBLISH
BEGIN:VEVENT
DTSTAMP:20260423T000806Z
DTSTART:20240821T223000Z
DTEND:20240821T233000Z
SUMMARY:Line Dancing - Experienced
LOCATION:516 Harmony Rd, Corbyville, ON (Gerry Masterson Community Centre)
END:VEVENT
END:VCALENDAR
