BEGIN:VCALENDAR
VERSION:2.0
METHOD:PUBLISH
BEGIN:VEVENT
DTSTAMP:20260421T142919Z
DTSTART:20240819T163000Z
DTEND:20240819T173000Z
SUMMARY:Balance Yoga: Mind &amp; Body
LOCATION:265 Cannifton Road, Belleville, ON K8N 4V8
END:VEVENT
END:VCALENDAR
