BEGIN:VCALENDAR
VERSION:2.0
METHOD:PUBLISH
BEGIN:VEVENT
DTSTAMP:20260423T053930Z
DTSTART:20240818T181500Z
DTEND:20240818T200000Z
SUMMARY:Pickleball (Recreational)
LOCATION:265 Cannifton Road, Belleville, ON K8N 4V8
END:VEVENT
END:VCALENDAR
