BEGIN:VCALENDAR
VERSION:2.0
METHOD:PUBLISH
BEGIN:VEVENT
DTSTAMP:20260422T104953Z
DTSTART:20240815T231500Z
DTEND:20240816T001500Z
SUMMARY:Public Swim (All Pools)
LOCATION:265 Cannifton Road, Belleville ON K8N 4V8
END:VEVENT
END:VCALENDAR
