BEGIN:VCALENDAR
VERSION:2.0
METHOD:PUBLISH
BEGIN:VEVENT
DTSTAMP:20260424T160106Z
DTSTART:20240815T130000Z
DTEND:20240815T134500Z
SUMMARY:Women's Weight Training
LOCATION:265 Cannifton Road, Belleville, ON
END:VEVENT
END:VCALENDAR
