BEGIN:VCALENDAR
VERSION:2.0
METHOD:PUBLISH
BEGIN:VEVENT
DTSTAMP:20260421T151633Z
DTSTART:20240814T211500Z
DTEND:20240814T230000Z
SUMMARY:Pickleball (Recreational)
LOCATION:265 Cannifton Road, Belleville, ON K8N 4V8
END:VEVENT
END:VCALENDAR
