BEGIN:VCALENDAR
VERSION:2.0
METHOD:PUBLISH
BEGIN:VEVENT
DTSTAMP:20260424T042150Z
DTSTART:20240813T233000Z
DTEND:20240814T011500Z
SUMMARY:Volleyball Intermediate/Advanced
LOCATION:265 Cannifton Road, Belleville ON K8N 4V8
END:VEVENT
END:VCALENDAR
