BEGIN:VCALENDAR
VERSION:2.0
METHOD:PUBLISH
BEGIN:VEVENT
DTSTAMP:20260421T145409Z
DTSTART:20240731T173000Z
DTEND:20240731T183000Z
SUMMARY:Zumba Gold
LOCATION:265 Cannifton Road, Belleville, ON K8N 4V8
END:VEVENT
END:VCALENDAR
