BEGIN:VCALENDAR
VERSION:2.0
METHOD:PUBLISH
BEGIN:VEVENT
DTSTAMP:20260421T132241Z
DTSTART:20240724T211500Z
DTEND:20240724T230000Z
SUMMARY:Pickleball (Recreational)
LOCATION:265 Cannifton Road, Belleville, ON K8N 4V8
END:VEVENT
END:VCALENDAR
